BEGIN:VCALENDAR
VERSION:2.0
PRODID:-//Stable View Non-Equestrian - ECPv6.15.16//NONSGML v1.0//EN
CALSCALE:GREGORIAN
METHOD:PUBLISH
X-WR-CALNAME:Stable View Non-Equestrian
X-ORIGINAL-URL:https://svagatheringplace.com
X-WR-CALDESC:Events for Stable View Non-Equestrian
REFRESH-INTERVAL;VALUE=DURATION:PT1H
X-Robots-Tag:noindex
X-PUBLISHED-TTL:PT1H
BEGIN:VTIMEZONE
TZID:UTC
BEGIN:STANDARD
TZOFFSETFROM:+0000
TZOFFSETTO:+0000
TZNAME:UTC
DTSTART:20240101T000000
END:STANDARD
END:VTIMEZONE
BEGIN:VEVENT
DTSTART;VALUE=DATE:20250823
DTEND;VALUE=DATE:20250824
DTSTAMP:20260420T222243
CREATED:20250211T210107Z
LAST-MODIFIED:20250723T133612Z
UID:10005965-1755907200-1755993599@svagatheringplace.com
SUMMARY:Stable View Summer Bluegrass Festival
DESCRIPTION:Bring a chair or blanket for your comfort\, sit back and relax or spread out on the grass\, and enjoy bluegrass music with three bands from Western North Carolina from 3pm – 8pm.  Food will be available for purchase from The Bistro @ Stable View. \nTickets are available to purchase.  \n \n 
URL:https://svagatheringplace.com/event/bluegrass-2025/
LOCATION:Stable View\, 117 Stable Drive\, Aiken\, SC\, 29801\, United States
CATEGORIES:Stable View Events
ORGANIZER;CN="Stable View":MAILTO:info@stableviewfarm.com
END:VEVENT
BEGIN:VEVENT
DTSTART;VALUE=DATE:20250826
DTEND;VALUE=DATE:20250827
DTSTAMP:20260420T222243
CREATED:20250711T173342Z
LAST-MODIFIED:20250711T173453Z
UID:10006608-1756166400-1756252799@svagatheringplace.com
SUMMARY:Cross Country Meet
DESCRIPTION:
URL:https://svagatheringplace.com/event/cross-country-meet/2025-08-26/
LOCATION:Stable View\, 117 Stable Drive\, Aiken\, SC\, 29801\, United States
CATEGORIES:Aiken Trails Club,Stable View Events
ORGANIZER;CN="Stable View":MAILTO:info@stableviewfarm.com
END:VEVENT
END:VCALENDAR