BEGIN:VCALENDAR
VERSION:2.0
PRODID:-//Stable View Non-Equestrian - ECPv6.15.16//NONSGML v1.0//EN
CALSCALE:GREGORIAN
METHOD:PUBLISH
X-ORIGINAL-URL:https://svagatheringplace.com
X-WR-CALDESC:Events for Stable View Non-Equestrian
REFRESH-INTERVAL;VALUE=DURATION:PT1H
X-Robots-Tag:noindex
X-PUBLISHED-TTL:PT1H
BEGIN:VTIMEZONE
TZID:UTC
BEGIN:STANDARD
TZOFFSETFROM:+0000
TZOFFSETTO:+0000
TZNAME:UTC
DTSTART:20250101T000000
END:STANDARD
END:VTIMEZONE
BEGIN:VEVENT
DTSTART;VALUE=DATE:20260901
DTEND;VALUE=DATE:20260902
DTSTAMP:20260421T131348
CREATED:20251219T151044Z
LAST-MODIFIED:20251219T151323Z
UID:10006683-1788220800-1788307199@svagatheringplace.com
SUMMARY:Middle School X-Country Meet
DESCRIPTION:
URL:https://svagatheringplace.com/event/middle-school-x-country-meet/
CATEGORIES:Aiken Trails Club,Stable View Events
END:VEVENT
BEGIN:VEVENT
DTSTART;VALUE=DATE:20260905
DTEND;VALUE=DATE:20260906
DTSTAMP:20260421T131348
CREATED:20251219T152448Z
LAST-MODIFIED:20251219T152448Z
UID:10006684-1788566400-1788652799@svagatheringplace.com
SUMMARY:Monthly Group Run/Walk
DESCRIPTION:Join our Trails Club monthly members group run/walk—open to all paces and abilities. Fresh air\, friendly faces\, and time on the trails together.
URL:https://svagatheringplace.com/event/monthly-group-run-walk-8/
CATEGORIES:Aiken Trails Club,Stable View Events
END:VEVENT
BEGIN:VEVENT
DTSTART;VALUE=DATE:20260915
DTEND;VALUE=DATE:20260916
DTSTAMP:20260421T131348
CREATED:20251219T152837Z
LAST-MODIFIED:20251219T152837Z
UID:10006685-1789430400-1789516799@svagatheringplace.com
SUMMARY:Middle School X-Country Meet
DESCRIPTION:
URL:https://svagatheringplace.com/event/middle-school-x-country-meet-2/
CATEGORIES:Stable View Events
END:VEVENT
END:VCALENDAR