BEGIN:VCALENDAR
VERSION:2.0
PRODID:-//Stable View Non-Equestrian - ECPv6.15.16//NONSGML v1.0//EN
CALSCALE:GREGORIAN
METHOD:PUBLISH
X-ORIGINAL-URL:https://svagatheringplace.com
X-WR-CALDESC:Events for Stable View Non-Equestrian
REFRESH-INTERVAL;VALUE=DURATION:PT1H
X-Robots-Tag:noindex
X-PUBLISHED-TTL:PT1H
BEGIN:VTIMEZONE
TZID:UTC
BEGIN:STANDARD
TZOFFSETFROM:+0000
TZOFFSETTO:+0000
TZNAME:UTC
DTSTART:20240101T000000
END:STANDARD
END:VTIMEZONE
BEGIN:VEVENT
DTSTART;VALUE=DATE:20251101
DTEND;VALUE=DATE:20251102
DTSTAMP:20260420T190327
CREATED:20250919T202414Z
LAST-MODIFIED:20251020T194637Z
UID:10006662-1761955200-1762041599@svagatheringplace.com
SUMMARY:Aiken Bluegrass Festival at Stable View
DESCRIPTION:Aiken Bluegrass Series at Stable View\n📅 Saturday\, November 1\, 2025 | 🕒 3:00 PM – 8:00 PM\n  📍 The Pavilion at Stable View \nEnjoy an evening of live bluegrass music featuring three incredible bands from Western North Carolina — all performing inside the Pavilion at Stable View. \n\nEvent Schedule\n\nGates Open: 4:00 PM\nMusic Begins: 5:00 PM\n\nPerformances By: \n\nAubrey Eisenman & The Clydes\nThe Nature Boys\nSongs from the Road Band\n\n\nFood & Beverage\nFood will be available for purchase from The Bistro @ Stable View.\n  Ollie’s Inn will be open for beer and wine throughout the evening. \n\nAdditional Information\nThis indoor event includes seating inside the Pavilion.\n  On-site accommodations and RV hook-ups are available.\n  Call 484-356-3173 for reservations or more information. \nNo admission fee for children 12 and under. \n\n    \n      🎟️ Buy Tickets
URL:https://svagatheringplace.com/event/aiken-bluegrass-festival-at-stable-view/
CATEGORIES:Stable View Events
END:VEVENT
END:VCALENDAR