BEGIN:VCALENDAR
VERSION:2.0
PRODID:-//Stable View Non-Equestrian - ECPv6.15.16//NONSGML v1.0//EN
CALSCALE:GREGORIAN
METHOD:PUBLISH
X-WR-CALNAME:Stable View Non-Equestrian
X-ORIGINAL-URL:https://svagatheringplace.com
X-WR-CALDESC:Events for Stable View Non-Equestrian
REFRESH-INTERVAL;VALUE=DURATION:PT1H
X-Robots-Tag:noindex
X-PUBLISHED-TTL:PT1H
BEGIN:VTIMEZONE
TZID:UTC
BEGIN:STANDARD
TZOFFSETFROM:+0000
TZOFFSETTO:+0000
TZNAME:UTC
DTSTART:20250101T000000
END:STANDARD
END:VTIMEZONE
BEGIN:VEVENT
DTSTART;VALUE=DATE:20260901
DTEND;VALUE=DATE:20260902
DTSTAMP:20260423T083717
CREATED:20251219T151044Z
LAST-MODIFIED:20251219T151323Z
UID:10006683-1788220800-1788307199@svagatheringplace.com
SUMMARY:Middle School X-Country Meet
DESCRIPTION:
URL:https://svagatheringplace.com/event/middle-school-x-country-meet/
CATEGORIES:Aiken Trails Club,Stable View Events
END:VEVENT
END:VCALENDAR