BEGIN:VCALENDAR
VERSION:2.0
PRODID:-//Stable View Non-Equestrian - ECPv6.15.16//NONSGML v1.0//EN
CALSCALE:GREGORIAN
METHOD:PUBLISH
X-WR-CALNAME:Stable View Non-Equestrian
X-ORIGINAL-URL:https://svagatheringplace.com
X-WR-CALDESC:Events for Stable View Non-Equestrian
REFRESH-INTERVAL;VALUE=DURATION:PT1H
X-Robots-Tag:noindex
X-PUBLISHED-TTL:PT1H
BEGIN:VTIMEZONE
TZID:UTC
BEGIN:STANDARD
TZOFFSETFROM:+0000
TZOFFSETTO:+0000
TZNAME:UTC
DTSTART:20250101T000000
END:STANDARD
END:VTIMEZONE
BEGIN:VEVENT
DTSTART;VALUE=DATE:20261023
DTEND;VALUE=DATE:20261026
DTSTAMP:20260423T100801
CREATED:20251219T154543Z
LAST-MODIFIED:20251219T154543Z
UID:10006688-1792713600-1792972799@svagatheringplace.com
SUMMARY:Fall Aiken Trailblazer Marathon/Half Marathon/10k/5k/Kids Fun Run
DESCRIPTION:Run into fall at the Aiken Trailblazer! Half Marathon\, 15K\, 5K\, and Kids Fun Run featuring crisp air\, scenic trails\, and family-friendly fun.\nSign Up Here! \nPacket Pick-Up @ Stable View from 7:00-8:30am\n117 Stable Drive\, Aiken\, SC 29801 \nHalf Marathon Start 8:00am\n10K Start 8:30am\n5K Start 9:00am\nKids Fun Run Start 10:00am
URL:https://svagatheringplace.com/event/fall-aiken-trailblazer-marathon-half-marathon-10k-5k-kids-fun-run/
CATEGORIES:Aiken Trails Club,Stable View Events
END:VEVENT
BEGIN:VEVENT
DTSTART;VALUE=DATE:20261024
DTEND;VALUE=DATE:20261025
DTSTAMP:20260423T100801
CREATED:20260119T184204Z
LAST-MODIFIED:20260119T184204Z
UID:10006696-1792800000-1792886399@svagatheringplace.com
SUMMARY:Aiken Bluegrass Series @ Stable View
DESCRIPTION:Join us for an unforgettable evening of live bluegrass music at Stable View! Bring your friends\, grab some food\, and enjoy the music!\nMore information and link to purchase tickets coming soon! 
URL:https://svagatheringplace.com/event/aiken-bluegrass-series-stable-view-3/
CATEGORIES:Stable View Events
END:VEVENT
END:VCALENDAR